BEGIN:VCALENDAR
VERSION:2.0
PRODID:-//https://www.fiduciaire-execo.be///NONSGML kigkonsult.se iCalcreator 2.10.15//
METHOD:PUBLISH
BEGIN:VEVENT
UID:20260419T155250CEST-4820Sn7HtO@https://www.fiduciaire-execo.be/
DTSTAMP:20260419T135250Z
DESCRIPTION:Présentation de la Fiduciaire Ex &amp\; Co\, ses ressources\, s
 es services\, ses atouts\,...\n \nModalités :\nRéservation obligatoire via
  le lien Eventbrite ci-dessus\nPrix : 15 € https://www.fiduciaire-execo.be
 /fr/mnu-actualites/mnu-calendrier/evenement/2202-conference-fiduciaire-ex-
 co
DTSTART:20230216T070000Z
DTEND:20230216T090000Z
LOCATION:OADS Space (Rue de Landen 150\, 4280 Hannut\, Belgique)
SUMMARY:Conférence Fiduciaire Ex & Co
URL:https://www.fiduciaire-execo.be/fr/mnu-actualites/mnu-calendrier/evenem
 ent/2202-conference-fiduciaire-ex-co
END:VEVENT
END:VCALENDAR
